﻿BEGIN:VCALENDAR
BEGIN:VEVENT
CLASS:PUBLIC
CREATED:20260419T150625
DESCRIPTION:90 min trénink na ledě
pro šikovné 2016 a starší
max 8 hráčů na ledě
cena 1500 CZK/hráč
DTEND:20240120T183000
DTSTAMP:20260419T150625
DTSTART:20240120T170000
LAST-MODIFIED:20091109T101015Z
LOCATION:Zimní stadion Kuřim, Sportovní 2033/7, Kuřim, , 57101
SUMMARY;LANGUAGE=en-us:SKATING&SHOOTING KUŘIM 
BEGIN:VALARM
TRIGGER:-PT1440M
ACTION:DISPLAY
DESCRIPTION:Reminder
END:VALARM
END:VEVENT
END:VCALENDAR
