﻿BEGIN:VCALENDAR
BEGIN:VEVENT
CLASS:PUBLIC
CREATED:20260419T132110
DESCRIPTION:Trénink na ledě 60 min v čase 11.45-12.45
Na programu obvyklá porce bruslařských skills zaměřených na zlepšení techniky a střelecká cvičení s velkým počtem opakování 
Max 8 hráčů
cena 1000 CZK

DTEND:20240302T124500
DTSTAMP:20260419T132110
DTSTART:20240302T114500
LAST-MODIFIED:20091109T101015Z
LOCATION:Zimní stadion Studénka, Budovatelská 770, Studénka, , 74213
SUMMARY;LANGUAGE=en-us:SKATING&SHOOTING STUDÉNKA 11.45-12.45
BEGIN:VALARM
TRIGGER:-PT1440M
ACTION:DISPLAY
DESCRIPTION:Reminder
END:VALARM
END:VEVENT
END:VCALENDAR
