﻿BEGIN:VCALENDAR
BEGIN:VEVENT
CLASS:PUBLIC
CREATED:20260419T131850
DESCRIPTION:90 min trénink na ledě v čase 10.00-11.30
Bruslení, ovládání puku, střelba
Cena 1300 CZK
Max 8 hráčů

DTEND:20240310T113000
DTSTAMP:20260419T131850
DTSTART:20240310T100000
LAST-MODIFIED:20091109T101015Z
LOCATION:Zimní stadion Studénka, Budovatelská 770, Studénka, , 74213
SUMMARY;LANGUAGE=en-us:CZECH EAGLES SKATING&INDIVIDUAL SKILLS STUDÉNKA Neděle 
BEGIN:VALARM
TRIGGER:-PT1440M
ACTION:DISPLAY
DESCRIPTION:Reminder
END:VALARM
END:VEVENT
END:VCALENDAR
