﻿BEGIN:VCALENDAR
BEGIN:VEVENT
CLASS:PUBLIC
CREATED:20260419T131545
DESCRIPTION:90 min trénink na ledě

max 8 hráčů

zaměřeno na pokročilé bruslařské dovednosti a střelbu

cena 1500 CZK, pravidelní zákazníci 1300 CZK
DTEND:20240330T113000
DTSTAMP:20260419T131545
DTSTART:20240330T100000
LAST-MODIFIED:20091109T101015Z
LOCATION:Zimní stadion Studénka, Budovatelská 770, Studénka, , 74213
SUMMARY;LANGUAGE=en-us:CZECH EAGLES SKATING&SHOOTING STUDÉNKA sobota
BEGIN:VALARM
TRIGGER:-PT1440M
ACTION:DISPLAY
DESCRIPTION:Reminder
END:VALARM
END:VEVENT
END:VCALENDAR
