﻿BEGIN:VCALENDAR
BEGIN:VEVENT
CLASS:PUBLIC
CREATED:20260420T114036
DESCRIPTION:60 min trénink na ledě
Pro hráče 2015-2016
Max 12 hráčů
Cena 1000 CZK


DTEND:20240526T161500
DTSTAMP:20260420T114036
DTSTART:20240526T151500
LAST-MODIFIED:20091109T101015Z
LOCATION:Zimní stadion Kuřim, Sportovní 2033/7, Kuřim, , 66434
SUMMARY;LANGUAGE=en-us:CZECH EAGLES SKATING & INDIVIDUAL SKILLS Kuřim 
BEGIN:VALARM
TRIGGER:-PT1440M
ACTION:DISPLAY
DESCRIPTION:Reminder
END:VALARM
END:VEVENT
END:VCALENDAR
