﻿BEGIN:VCALENDAR
BEGIN:VEVENT
CLASS:PUBLIC
CREATED:20260423T195242
DESCRIPTION:Pokyny k nástupu:
první led začíná v 8.45, tzn. příjezd do 8.00, posledení led končí v 16.00 hod.,  hráči budou k vyzvednutí v pátek v 17.15 
možný příjezd v neděli 4.8 v čase 19.00-20.00 (večeře a následná snídaně nelze zajistit, je nutno s tímto počítat)
co sebou?
hokejovou výstroj s dostatečným množstvím spodního prádla a ponožek, aby stačily uschnout od tréninku k tréninku., vybavení na suchou (primárně běh), vybavení do bazénu, hokejku na suchou, pokud takovou používáte při nácviku stickhandlingu.

Možná účast na 3.tréninku na ledě(po, út, čt, pá) v délce trvání 45 min (11.20-12.05) zaměřeného na střelbu. Cena je 800 CZK/jednotka, celkem 2800 CZK při absolvování všech 4 tréninků.

Camp s námi absolvuje Matyáš Melovský, který se přímo zapojí jako hráč/trenér






5 denní camp v Kuřimi v termínu 5-9.8

Celodenní sportovní program, min. 2 ledy denně 2x 60 min, suchá příprava, stickhandling
možné vč. ubytování na zimním stadionu v Kuřimi
strava v restauraci na zimním stadionu

Cena 12 000 CZK. V ceně NEJSOU zahrnuty náklady na ubytování a stravu, které budou hrazeny zvlášť v případě, že budou využívány. Ceny ubytování a stravy dle ceníku ubytovny a restaurace (aktuálně 350 czk ubytování, 500 czk plná penze vč. svačiny a ovoce do šatny.
Účastníci budou pod stálým dozorem v případě, že budou na campu ubytováni.

Cílem je sportovní růst a příprava hráčů před nástupem do klubové sezóny. Tradičně se zaměřujeme na bruslení a ovládání puku a v tomto smyslu lze očekávat největší posun.  
Nejsme úplně zaměřeni na zabití volného času dětí, ale na sportovní stránku. 

Kapacita je max 20 hráčů, 2013 a mladší
DTEND:20240809T170000
DTSTAMP:20260423T195242
DTSTART:20240805T080000
LAST-MODIFIED:20091109T101015Z
LOCATION:Zimní stadion Kuřim, Sportovní 2033/7, Kuřim, , 66434
SUMMARY;LANGUAGE=en-us:Srpnový camp v Kuřimi
BEGIN:VALARM
TRIGGER:-PT1440M
ACTION:DISPLAY
DESCRIPTION:Reminder
END:VALARM
END:VEVENT
END:VCALENDAR
