﻿BEGIN:VCALENDAR
BEGIN:VEVENT
CLASS:PUBLIC
CREATED:20260422T011954
DESCRIPTION:60 min trénink na ledě 
Pro nejmenší hráče od ročníku 2017
Max 6 hráčů 
Cena 1300 czk
Hodně bruslení s pukem i bez puku, soutěže, smysluplné hry
DTEND:20240728T124500
DTSTAMP:20260422T011954
DTSTART:20240728T114500
LAST-MODIFIED:20091109T101015Z
LOCATION:Zimní stadion Kuřim, Sportovní 2033/7, Kuřim , , 66434
SUMMARY;LANGUAGE=en-us:CZECH EAGLES SKILLS YOUTH
BEGIN:VALARM
TRIGGER:-PT1440M
ACTION:DISPLAY
DESCRIPTION:Reminder
END:VALARM
END:VEVENT
END:VCALENDAR
