﻿BEGIN:VCALENDAR
BEGIN:VEVENT
CLASS:PUBLIC
CREATED:20260422T102830
DESCRIPTION:Pravidelný trénink na ledě zaměřený na rozvoj bruslařských a dalších individuálních dovedností
Čas 16.00-17.30
Cena 1600 CZK, pravidelní účastníci při registraci všech říjnových termínů a platbě předem na celý měsíc 1400 CZK
Max 8 hráčů na ledě, přednost mají pravidelní návštěvníci

V čem se s námi nejvíc posunete?
1/technika bruslení tudíž rychlost bruslení zejména v obloucích
2/ovládání puku vč. kliček
3/ střelba (technické zvládnutí různých druhů střel)
 
Můžete se jedním kliknutím registrovat i na všechny středeční říjnové termíny (cena 5x14000 CZK)
DTEND:20241006T173000
DTSTAMP:20260422T102830
DTSTART:20241009T160000
LAST-MODIFIED:20091109T101015Z
LOCATION:Zimní stadion Bohumín, Janáčkova 1218, Bohumín, , 73581
SUMMARY;LANGUAGE=en-us:CZECH EAGLES INDIVIDUAL SKILLS BOHUMÍN STARŠÍ
BEGIN:VALARM
TRIGGER:-PT1440M
ACTION:DISPLAY
DESCRIPTION:Reminder
END:VALARM
END:VEVENT
END:VCALENDAR
