﻿BEGIN:VCALENDAR
BEGIN:VEVENT
CLASS:PUBLIC
CREATED:20260422T102408
DESCRIPTION:90 min trénink na ledě zaměřený primárně na techniku (a intenzitu) bruslení
bez puku i s pukem
dle složení jednotka zaměřena i edukativně
max 7 hráčů na ledě
cena 1500, - CZK, byli jste u nás minulý týden? Jste pravidelný účastník? Pak je to 1300 CZK/pokud nebude na ledě méně jak 5 hráčů
Čas 10.00-11.30

Pro hráče od 2016, není určeno pro začátečníky
DTEND:20241013T113000
DTSTAMP:20260422T102408
DTSTART:20241013T100000
LAST-MODIFIED:20091109T101015Z
LOCATION:Zimní stadion Studénka, Budovatelská 770, Studénka, , 74213
SUMMARY;LANGUAGE=en-us:SKATING+OTHER SKILLS STUDÉNKA 13.10
BEGIN:VALARM
TRIGGER:-PT1440M
ACTION:DISPLAY
DESCRIPTION:Reminder
END:VALARM
END:VEVENT
END:VCALENDAR
