﻿BEGIN:VCALENDAR
BEGIN:VEVENT
CLASS:PUBLIC
CREATED:20260422T102615
DESCRIPTION:Nejefektivnější forma tréninku na ledě
Zpočátku vždy po telefonické dohodě. mob. 603 491235
60 min individuální trénink ve formátu 1-1(1 trenér - 1 hráč), max 2-1(2 hráči - 1 trenér)
Zaměření tréninku vždy dle požadavků hráče/rodiče/, poradenství v oblasti rozvoje hráče je součástí ceny
Cena 2500 CZK, v ceně je zahrnutý pronájem ledu, odměna trenéra, zapůjčení tréninkového dresu, vlastní tréninkové pomůcky, poradenství, namátkové sledování hráče v soutěžních utkáních. Toto může být součástí samostatného kontraktu. 

DTEND:20241008T140000
DTSTAMP:20260422T102615
DTSTART:20241008T130000
LAST-MODIFIED:20091109T101015Z
LOCATION:Zimní stadion Studénka, Budovatelská 770, Studénka, , 74213
SUMMARY;LANGUAGE=en-us:Individuální trénink 1-1 STUDÉNKA
BEGIN:VALARM
TRIGGER:-PT1440M
ACTION:DISPLAY
DESCRIPTION:Reminder
END:VALARM
END:VEVENT
END:VCALENDAR
