﻿BEGIN:VCALENDAR
BEGIN:VEVENT
CLASS:PUBLIC
CREATED:20260422T102321
DESCRIPTION:Pravidelný trénink na ledě 75 min, doplněk klubového programu, který by měl tvořit jádro celkové přípravy hráče. U nás získáte technickou nadstavbu, která je nezbytná, nikoliv postačující, pro uplatnění v juniorském a seniorském věku. 
Zaměřeno primárně na pokročilé techniky hokejového bruslení a další individuální dovednosti jako ovládání puku a střelba. 
Obsah tréninku je vždy přizpůsoben jeho účastníkům, kdy preferenci mají pravidelní účastníci našich lekcí.
Garantujeme efektivitu tréninkových metod, jejichž výsledky budou viditelné v soutěžních utkáních i na klubových trénincích.
Naše pravidelné účastníky namátkovcě sledujeme i v soutěžních utkáních. Toto může být součástí separátního kontraktu.


Pro hráče od ročníku 2016, není určeno pro začínající
Cena 1300 CZK/hráč, max. 6 hráčů na ledě
DTEND:20241015T151500
DTSTAMP:20260422T102321
DTSTART:20241015T140000
LAST-MODIFIED:20091109T101015Z
LOCATION:Zimní stadion Studénka, Budovatelská 770, Studénka, , 74213
SUMMARY;LANGUAGE=en-us:Trénink bruslení a individuálních dovedností STUDÉNKA úterý 14.00
BEGIN:VALARM
TRIGGER:-PT1440M
ACTION:DISPLAY
DESCRIPTION:Reminder
END:VALARM
END:VEVENT
END:VCALENDAR
