﻿BEGIN:VCALENDAR
BEGIN:VEVENT
CLASS:PUBLIC
CREATED:20260422T102754
DESCRIPTION:90 min trénink na ledě
max 8 hráčů, v době publikace události zbývají 4 volná místa
zaměřeno hlavně na pokročilé bruslařské techniky a další dovednosti
cena 1500 CZK/hráč
není určeno pro začátečníky

DTEND:20241012T174500
DTSTAMP:20260422T102754
DTSTART:20241012T161500
LAST-MODIFIED:20091109T101015Z
LOCATION:Zimní stadion Kuřim, Sportovní 2033/7, Kuřim, , 66434
SUMMARY;LANGUAGE=en-us:(SKATING) SKILLS KUŘIM 12.10
BEGIN:VALARM
TRIGGER:-PT1440M
ACTION:DISPLAY
DESCRIPTION:Reminder
END:VALARM
END:VEVENT
END:VCALENDAR
