﻿BEGIN:VCALENDAR
BEGIN:VEVENT
CLASS:PUBLIC
CREATED:20260419T164405
DESCRIPTION: 

Skills trénink

Určeno primárně pro 2006-2013

Zaměřeno zejména na

 	techniku bruslení cca 45 min (bruslení v obloucích, odraz v obloucích, překládání, přenášení váhy, práce s těžištěm), dále
 	pokročilé techniky bruslení zejména, mohawky, přechody, fejkování
 	ovládání puku v obloucích a při využití pokročilých bruslařských technik
 	techniku střelby po tlačené kličce, zejména rozdíly v technice střelby po dlouhé a krátké tlačené kličce do forhendu, střela po stahovařce, střela po přihrávce, střela bekhendem švihem i příklepem, atd

Jednotka bude koncipována podle aktuálního obsazení tak, aby byla efektivní a obsah bude přizpůsoben dle hráčského obsazení

Max počet hráčů 12

Cena 1300, v případě absolvování 2 tréninků v kalendářním týdnu cena 1200,-
DTEND:20230304T140000
DTSTAMP:20260419T164405
DTSTART:20230304T123000
LAST-MODIFIED:20091109T101015Z
LOCATION:Zimní stadion STUDÉNKA, Budovatelská 770, Studénka, , 74213
SUMMARY;LANGUAGE=en-us:CZECH EAGLES Individual Skills STUDÉNKA sobota 4.3
BEGIN:VALARM
TRIGGER:-PT1440M
ACTION:DISPLAY
DESCRIPTION:Reminder
END:VALARM
END:VEVENT
END:VCALENDAR
