﻿BEGIN:VCALENDAR
BEGIN:VEVENT
CLASS:PUBLIC
CREATED:20260419T165137
DESCRIPTION:Jednotka v rozsahu 90 min v čase 14.30-16.00

max 6 hráčů, z poloviny je obsazeno pravidelnými účastníky, lze se přidat

Určeno pro hráče od 2014-16

Zaměřeno na

1/ základní  techniky bruslení, přenášení váhy, hrany, práci s těžištěm

2/ základy ovládání puku a stickhandlingu

3/ základy střelby tahem, forehand i backhand

Dbáme na zafixování správných návyků hned v raném věku, abychom předcházeli odstraňování špatných pohybových stereotypů později. Proto je možná účast pouze 6 dětí. Po zvládnutí budeme navazovat pokročilejšími bruslařskými technikami a ovládání puku.

Náš program je dlouhodobý tréninkové jednotky na sebe navazují. V Bohumíně každou středu po celou zimní sezónu. Dále bude navazovat off season program vč. letních campů.

Účastníci našich tréninků budou tvořit jádro týmu CZECH EAGLES ročníku 2015 a účastnit se turnajů selektů v následujících sezónách

Cena 1500CZK, od 3 účastníků 1300 CZK
DTEND:20230306T160000
DTSTAMP:20260419T165137
DTSTART:20230308T143000
LAST-MODIFIED:20091109T101015Z
LOCATION:Zimní stadion Bohumín, Janáčkova 1218, Bohumín, , 73581
SUMMARY;LANGUAGE=en-us: CZECH EAGLES BOHUMÍN 2014/15 každou středu 
BEGIN:VALARM
TRIGGER:-PT1440M
ACTION:DISPLAY
DESCRIPTION:Reminder
END:VALARM
END:VEVENT
END:VCALENDAR
