﻿BEGIN:VCALENDAR
BEGIN:VEVENT
CLASS:PUBLIC
CREATED:20260419T164411
DESCRIPTION:Jednotka v rozsahu 90 min, pravidelně každou středu v průběhu zimní sezony. Ideální pro nápravu stávajcí techniky a osvojení si i pokročilých technik bruslení a střelby

max 6 hráčů, můžete se přidat ke stávajícímm pravidelným účastníkům

Určeno pro hráče od 2010 do 2013, ne začátečníky

Zaměřeno na

1/ techniku bruslení primárně v obloucích 45 min

2/ střelbu po stahovačce a tlačené kličce 45 min

Hráčům bude vysvětlena technika a následně bude procvičováno pod dohledem trenéra a budou prováděny případné korekce směrem k ideálnímu provedení.

Náš program je dlouhodobý tréninkové jednotky na sebe navazují.

Cena 1500 CZK
DTEND:20230322T173000
DTSTAMP:20260419T164411
DTSTART:20230322T160000
LAST-MODIFIED:20091109T101015Z
LOCATION:Zimní stadion Bohumín, Janáčkova 1218, Bohumín, , 73581
SUMMARY;LANGUAGE=en-us:CZECH EAGLES SKATING, SHOOTING BOHUMÍN každou středu v 16.00
BEGIN:VALARM
TRIGGER:-PT1440M
ACTION:DISPLAY
DESCRIPTION:Reminder
END:VALARM
END:VEVENT
END:VCALENDAR
