﻿BEGIN:VCALENDAR
BEGIN:VEVENT
CLASS:PUBLIC
CREATED:20260419T165504
DESCRIPTION:Určeno pro 2010-2014

KAŽDÝ ČTVRTEK V ČASE 16.15-17.45

Zaměřeno zejména na

 	techniku bruslení cca 45 min (bruslení v obloucích, odraz v obloucích, překládání, přenášení váhy, práce s těžištěm, obratnostní bruslení), dále
 	pokročilé techniky bruslení zejména, mohawky, přechody, fejkování
 	ovládání puku vpřímé jízdě i obloucích a postupně i při využití pokročilých bruslařských technik
 	techniku střelby frh, bkh, střela po tlačené kličce

Jednotka je zaměřena edukativně, hráči budou postupně seznamováni se všemi bruslařskými prvky, budou vedeni směrem k ideálnímu technickému provedení a trenérem budou korigováni směrem k ideálnímu provedení. Cílem je pozvednout úroveň dovedností na maximální možnou úroveň každého hráče.

Preferujeme pravidelné účastníky a v takovém případě GARANTUJEME výrazný růst úrovně dovedností nad běžný rámec v daném ročníku. Hráči pravidelně absolvující náš program patří mezi nejlepší hráče v ročníku v rámci kraje i celé republiky. Pokročilé nebo i další hráče pozvedneme na novou úroveň.

Náš program je dlouhodobý, celoroční. Působíme v hlavní sezóně, kdy se věnujeme výuce nejmenších i individuálnímu zdokonalování starších hráčů. V období off season, kdy pořádáme campy zaměřené na rozvoj dovedností, jejich transfer do her na malém prostoru, ale i individuální výuku a optimalizaci detailů u hráčů všech věkových kategorií.

Máme zkušenosti a sportovní úspěchy v nejmladších kategoriích více jak 15 let, naši hráči hrají v mládežnických reprezentacích, zahraničních juniorských ligách.

Nejsme vázáni klubovými povinnostmi.

Max počet hráčů 7

Cena 1500,- CZK

V případě dotazů se nám nebojte ozvat na 603 491235, Ctibor Melovský.
DTEND:20230316T174500
DTSTAMP:20260419T165504
DTSTART:20230316T161500
LAST-MODIFIED:20091109T101015Z
LOCATION:Sportovní centrum Moutnice, 399, Moutnice, , 66455
SUMMARY;LANGUAGE=en-us:CZECH EAGLES Individual Skills MOUTNICE každý čtvrtek 16.3
BEGIN:VALARM
TRIGGER:-PT1440M
ACTION:DISPLAY
DESCRIPTION:Reminder
END:VALARM
END:VEVENT
END:VCALENDAR
