﻿BEGIN:VCALENDAR
BEGIN:VEVENT
CLASS:PUBLIC
CREATED:20260419T164339
DESCRIPTION:Čas 16,15-17.45

trénink na ledě zaměřený zejména na gólmanské bruslení pod vedením Vojtu Přecechtěla nebo jeho mladšího bráchu Honzu, kteří se specializují na tuto věkovou kategorií

60 min ve dvojici výhradně pod vedením trenéra gólmanů, následně mohou být až na 30 min zařazeni do střeleckých cvičení v rámci tréninku hráčů opět pod dohledem trenéra gólmanů

Pouze pro 2 gólmany

Naším cílem je být v Moutnicích v tomto formátu a v tento termín každý čtvrtek.
DTEND:20230302T174500
DTSTAMP:20260419T164339
DTSTART:20230302T161500
LAST-MODIFIED:20091109T101015Z
LOCATION:Sportovní centrum  Moutnice, Moutnice 399, Moutnice, , 66455
SUMMARY;LANGUAGE=en-us:Gólmanský speciál Moutnice 2.3
BEGIN:VALARM
TRIGGER:-PT1440M
ACTION:DISPLAY
DESCRIPTION:Reminder
END:VALARM
END:VEVENT
END:VCALENDAR
