﻿BEGIN:VCALENDAR
BEGIN:VEVENT
CLASS:PUBLIC
CREATED:20260423T165947
DESCRIPTION: OFF SEASON PROGRAM PRO NEJMLADŠÍ HRÁČE ZAMĚŘENÝ NA VÝUKU INDIVIDUÁLNÍCH DOVEDNOSTÍ

PRAVIDELNĚ každou neděli trénink na ledě v Kuřimi, program bude pokračovat letními campy v Blansku v červenci a dalším programem na ledě v červenci letními campy v Blansku. Dále v sezóně budeme pravidelně, stejně jako v posledních letech organizovat mimooklubový tréninkový a herní program doplňující činnost v klubech s cílem přispět k výchově hráčů s nejvyššími sportovními ambicemi. Na jižní Moravě každý čtvrtek v Moutnicích a každou neděli odpoledne v Kuřimi.

Pro hráče ročníků 2014-16

Nejmladší kategorii se věnujeme dlouhodobě, naše zkušenosti s dětmi jsou přímé a dlouhodobé a naši žáci jsou členy mládežnických repre výběrů, hrají mimo Česko nejvyšší soutěže v Kanadě, Finsku, Švédsku, Německu 

S ročníkem 2015 se zúčastníme v příští sezóně Zimní ligy selektů, kde chceme navázat na naše úspěchy s ročníkem 2013. 


Čas 9.45-10.45 a 12.15.-13.15 

Max 12 hráčů

Cena 1300 CZK/60 min na ledě, v případě pravidelné účasti aspoň 1x týdně 1000 CZK/60 min na ledě 
DTEND:20230618T131500
DTSTAMP:20260423T165947
DTSTART:20230618T094500
LAST-MODIFIED:20091109T101015Z
LOCATION:Zimní stadion Kuřim, Sportovní 2033/7, Kuřim, , 66434
SUMMARY;LANGUAGE=en-us:Czech Eagles individual skills off season KUŘIM 8
BEGIN:VALARM
TRIGGER:-PT1440M
ACTION:DISPLAY
DESCRIPTION:Reminder
END:VALARM
END:VEVENT
END:VCALENDAR
