﻿BEGIN:VCALENDAR
BEGIN:VEVENT
CLASS:PUBLIC
CREATED:20260423T172013
DESCRIPTION:Na programu aplikace pokročilých dovedností v rychlosti i na malém prostoru, střelecká cvičení zaměřená na pohotovost a dále na střelu po stahovačce a tlačené kličce

Program bude probíhat v měsících květen, červen každý pátek v čase 13.30-14.15 cena je 800 CZK. Max 6 hráčů

V čase 15.15-16.15 zaměřeno na techniku bruslení s akcentem na techniku v obloucích a překládání. Lze se zúčastnit pouze jedné z částí. Cena je 1200 CZK. Max 10 hráčů. 

Pro hráče od zdatných 2013.

Cena obou jednotek je 1800 CZK, pravidelní účastníci těchto lekcí při platbě předem 1500 CZK

Program s podobnou náplní běží současně v Moutnicích každý čtvrtek v čase 15.00-16.00 a lze na něj v červenci navázat intenzivním programem v podobě 5 denního campu v KUŘIMI, kde budou 3 jednotky na ledě denně. Dále budeme v tomto programu pokračovat ve formě individuálních tréninků i v průběhu sezóny, stejně jako ve výukových programech zaměřených na techniku bruslení a ovládání puku.  


DTEND:20230512T150000
DTSTAMP:20260423T172013
DTSTART:20230512T133000
LAST-MODIFIED:20091109T101015Z
LOCATION:Zimní stadion Vyškov, Mlýnská 12, Dědice, Vyškov, , 68201
SUMMARY;LANGUAGE=en-us:CZECH EAGLES Pokročilé dovednosti a střelba květen Vyškov II
BEGIN:VALARM
TRIGGER:-PT1440M
ACTION:DISPLAY
DESCRIPTION:Reminder
END:VALARM
END:VEVENT
END:VCALENDAR
