﻿BEGIN:VCALENDAR
BEGIN:VEVENT
CLASS:PUBLIC
CREATED:20260421T011048
DESCRIPTION:2X60 MIN TRÉNINK NA LEDĚ (15.30-16.30 a 18.30-19.30)

URČENO PRO STARŠÍ HRÁČE 2003-2008

MAX 12 HRÁČŮ NA LEDĚ, 2 TRENÉŘI

2 GÓLMANI

HLAVNÍ ZAMĚŘENÍ TRÉNINKŮ:
1/TECHNIKA BRUSLENÍ
2/ INTENZITA BRUSLENÍ
3/ OBRATNOST NA MALÉM PROSTORU
4/ STŘELBA A ZAKONČENÍ

HLAVNĚ NA TĚCHTO ASPEKTECH BUDEME PRACOVAT KAŽDÝ VÍKEND


DTEND:20230520T193000
DTSTAMP:20260421T011048
DTSTART:20230520T153000
LAST-MODIFIED:20091109T101015Z
LOCATION:Zimní stadion Kuřim, Sportovní 2033/7, Kuřim, , 66434
SUMMARY;LANGUAGE=en-us:ADVANCED SKILLS STARŠÍ HRÁČI KUŘIM III
BEGIN:VALARM
TRIGGER:-PT1440M
ACTION:DISPLAY
DESCRIPTION:Reminder
END:VALARM
END:VEVENT
END:VCALENDAR
