﻿BEGIN:VCALENDAR
BEGIN:VEVENT
CLASS:PUBLIC
CREATED:20260425T215724
DESCRIPTION:90 min trénink na ledě ve Studénce
Zaměřeno hlavně na bruslařské dovednosti s důrazem na techniku 45 min, a dále na ovládání puku s využitím pokročilých bruslařských technik a střelbu s důrazem na techniku provedení
Obsah tréninku bude přizpůsoben složení hráčů
Cena 1500 CZK, pravidelní účastníci našich lekcí 1300 CZK

DTEND:20230930T180000
DTSTAMP:20260425T215724
DTSTART:20230930T163000
LAST-MODIFIED:20091109T101015Z
LOCATION:Zimní stadion ve Studénce, Budovatelská 770, Studénka, , 74213
SUMMARY;LANGUAGE=en-us:CZECH EAGLES INDIVIDUAL SKILLS STUDÉNKA Sobota
BEGIN:VALARM
TRIGGER:-PT1440M
ACTION:DISPLAY
DESCRIPTION:Reminder
END:VALARM
END:VEVENT
END:VCALENDAR
