﻿BEGIN:VCALENDAR
BEGIN:VEVENT
CLASS:PUBLIC
CREATED:20260419T235709
DESCRIPTION:90 min trénink na ledě 
Zaměřeno na bruslařské dovednosti 
Celoroční program výuky a zdokonalování zejména techniky bruslení je koncipován jako doplněk ke klubovým tréninkům. Výsledkem absolvování našeho programu je viditelný posun bruslařských dovedností. Absolventi našeho programu patří k lídrům svých  týmů a jsou nejčastěji součástí extraligových mládežnických týmů i mládežnických reprezentací.
Tento program je určen pro hráče od ročníku 2014.
Cena je 1500 CZK v případě jednorázové účasti, pravidelní účastníci (aspoň 1xtýdně) 1300 CZK. 
DTEND:20230925T150000
DTSTAMP:20260419T235709
DTSTART:20230925T133000
LAST-MODIFIED:20091109T101015Z
LOCATION:Zimní stadion ve Studénce, Budovatelská 770, Studénka, , 74213
SUMMARY;LANGUAGE=en-us:CZECH EAGLES SKATING&INDIVIDUAL SKILLS STUDÉNKA Pondělí
BEGIN:VALARM
TRIGGER:-PT1440M
ACTION:DISPLAY
DESCRIPTION:Reminder
END:VALARM
END:VEVENT
END:VCALENDAR
