﻿BEGIN:VCALENDAR
BEGIN:VEVENT
CLASS:PUBLIC
CREATED:20260419T151218
DESCRIPTION:Trénink na ledě 60 min pro nejmladší hráče, pro ty, kterým nestačí klubové tréninky a chtějí něco víc. 
Pravidelně každou středu od září do března v Bohumíně
Zaměřeno na bruslení a ovládání puku, drilové pasáže prokládány hrami
max 8 dětí
cena od 800 CZK/jednotka v případě nákupu aspoň 4 tréninkových jednotek, jinak 1000 CZK

Dlouholeté zkušenosti s nejmenší kategorií, prokazatelné výsledky. 

Kolik musí mít dítě let? Tolik, aby bylo schopno respektovat základní pravidla(6-8)  




DTEND:20240103T160000
DTSTAMP:20260419T151218
DTSTART:20240103T150000
LAST-MODIFIED:20091109T101015Z
LOCATION:Zimní stadion Bohumín, Janáčkova 1218, Bohumín, , 73581
SUMMARY;LANGUAGE=en-us:CZECH EAGLES INDIVIDUAL SKILLS BOHUMÍN Středa 
BEGIN:VALARM
TRIGGER:-PT1440M
ACTION:DISPLAY
DESCRIPTION:Reminder
END:VALARM
END:VEVENT
END:VCALENDAR
