﻿BEGIN:VCALENDAR
BEGIN:VEVENT
CLASS:PUBLIC
CREATED:20260419T151514
DESCRIPTION:90 min trénink na ledě zaměřený primárně na techniku bruslení je součástí dlouhodobého programu. koncipováno jako doplněk programu v klubech
každý týden od září do března ve středu ve stejný čas v Bohumíně, Studénce a Moutnicích, víkendy v Kuřimi, Studénce, Kravařích...
max 8 hráčů 
cena 1500 CZK/hráč/trénink
jednorázová účast většinou nedává smysl

pro hráče od ročníku 2013, mladší po telefonické domluvě

Poslední místa v tomto termínu 

DTEND:20240103T173000
DTSTAMP:20260419T151514
DTSTART:20240103T160000
LAST-MODIFIED:20091109T101015Z
LOCATION:Zimní stadion Bohumín, Janáčkova 1218, BohumÍn, , 73581
SUMMARY;LANGUAGE=en-us:CZECH EAGLES SKATING&SHOOTING BOHUMÍN Středa 
BEGIN:VALARM
TRIGGER:-PT1440M
ACTION:DISPLAY
DESCRIPTION:Reminder
END:VALARM
END:VEVENT
END:VCALENDAR
