﻿BEGIN:VCALENDAR
BEGIN:VEVENT
CLASS:PUBLIC
CREATED:20260419T151043
DESCRIPTION:90 min trénink na ledě 
Zaměření na bruslařské dovednosti a ovládání puku
Max 8 hráčů 
Cena 1500 czk resp. 1300 czk pro pravidelné účastníky 
Čas 7.00-8.30
DTEND:20240113T083000
DTSTAMP:20260419T151043
DTSTART:20240113T070000
LAST-MODIFIED:20091109T101015Z
LOCATION:Zimni stadion ve Studénce , Budovatelská 770, Studénka, , 74213
SUMMARY;LANGUAGE=en-us:CZECH EAGLES SKATING&INDIVIDUAL SKILLS STUDÉNKA Sobota
BEGIN:VALARM
TRIGGER:-PT1440M
ACTION:DISPLAY
DESCRIPTION:Reminder
END:VALARM
END:VEVENT
END:VCALENDAR
