﻿BEGIN:VCALENDAR
BEGIN:VEVENT
CLASS:PUBLIC
CREATED:20260419T151341
DESCRIPTION:Trénink na ledě 60 min
Je součástí dlouhodobého programu zaměřeného primárně na rozvoj bruslařských dovedností, kde se věnujeme zejména technice bruslení. Součástí je i osvojení pokročilých technik nejen bruslařských, ale i střelby a ovládání puku.
Program je koncipován jako doplněk klubového programu a zaměřuje se na detail, čemuž odpovídá maximální počet hráčů na ledě
Max počet hráčů 8
Cena 1200 CZK
Pro hráče od velmi zdatných 2015

DTEND:20240111T180000
DTSTAMP:20260419T151341
DTSTART:20240111T170000
LAST-MODIFIED:20091109T101015Z
LOCATION:Sportovní centrum Moutnice, Moutnice 399, Moutnice, , 66455
SUMMARY;LANGUAGE=en-us:CZECH EAGLES SKATING & INDIVIDUAL SKILLS MOUTNICE Čtvrtek
BEGIN:VALARM
TRIGGER:-PT1440M
ACTION:DISPLAY
DESCRIPTION:Reminder
END:VALARM
END:VEVENT
END:VCALENDAR
